BEGIN:VCALENDAR
VERSION:2.0
PRODID:-//NBHCC - ECPv6.15.17.1//NONSGML v1.0//EN
CALSCALE:GREGORIAN
METHOD:PUBLISH
X-WR-CALNAME:NBHCC
X-ORIGINAL-URL:https://nbhcc.org
X-WR-CALDESC:Events for NBHCC
REFRESH-INTERVAL;VALUE=DURATION:PT1H
X-Robots-Tag:noindex
X-PUBLISHED-TTL:PT1H
BEGIN:VTIMEZONE
TZID:UTC
BEGIN:STANDARD
TZOFFSETFROM:+0000
TZOFFSETTO:+0000
TZNAME:UTC
DTSTART:20230101T000000
END:STANDARD
END:VTIMEZONE
BEGIN:VEVENT
DTSTART;TZID=UTC:20250630T133000
DTEND;TZID=UTC:20250630T150000
DTSTAMP:20260422T003300
CREATED:20250610T153612Z
LAST-MODIFIED:20250610T153612Z
UID:3409-1751290200-1751295600@nbhcc.org
SUMMARY:Stakeholders Meeting
DESCRIPTION:
URL:https://nbhcc.org/event/stakeholders-meeting-2/
END:VEVENT
BEGIN:VEVENT
DTSTART;TZID=UTC:20250623T090000
DTEND;TZID=UTC:20250623T090000
DTSTAMP:20260422T003300
CREATED:20241206T183833Z
LAST-MODIFIED:20250326T133514Z
UID:3352-1750669200-1750669200@nbhcc.org
SUMMARY:NBHCC Board Meeting
DESCRIPTION:
URL:https://nbhcc.org/event/nbhcc-board-meeting-10/
LOCATION:NBHCC OFFICE
END:VEVENT
BEGIN:VEVENT
DTSTART;TZID=UTC:20250601T080000
DTEND;TZID=UTC:20250630T170000
DTSTAMP:20260422T003300
CREATED:20240722T175728Z
LAST-MODIFIED:20240722T175728Z
UID:3170-1748764800-1751302800@nbhcc.org
SUMMARY:National PTSD Awareness Month
DESCRIPTION:
URL:https://nbhcc.org/event/national-ptsd-awareness-month/
END:VEVENT
BEGIN:VEVENT
DTSTART;TZID=UTC:20250522T090000
DTEND;TZID=UTC:20250522T120000
DTSTAMP:20260422T003300
CREATED:20241206T183729Z
LAST-MODIFIED:20241206T183729Z
UID:3350-1747904400-1747915200@nbhcc.org
SUMMARY:NBHCC Board Room
DESCRIPTION:
URL:https://nbhcc.org/event/nbhcc-board-room/
LOCATION:NBHCC OFFICE
END:VEVENT
BEGIN:VEVENT
DTSTART;TZID=UTC:20250501T080000
DTEND;TZID=UTC:20250531T170000
DTSTAMP:20260422T003300
CREATED:20240722T175640Z
LAST-MODIFIED:20240722T175640Z
UID:3169-1746086400-1748710800@nbhcc.org
SUMMARY:National Foster Care Month
DESCRIPTION:
URL:https://nbhcc.org/event/national-foster-care-month/
END:VEVENT
BEGIN:VEVENT
DTSTART;TZID=UTC:20250501T080000
DTEND;TZID=UTC:20250531T170000
DTSTAMP:20260422T003300
CREATED:20240722T175608Z
LAST-MODIFIED:20240722T175608Z
UID:3168-1746086400-1748710800@nbhcc.org
SUMMARY:National Mental Health Month
DESCRIPTION:
URL:https://nbhcc.org/event/national-mental-health-month/
END:VEVENT
BEGIN:VEVENT
DTSTART;TZID=UTC:20250425T090000
DTEND;TZID=UTC:20250425T120000
DTSTAMP:20260422T003300
CREATED:20241206T181827Z
LAST-MODIFIED:20250213T180418Z
UID:3347-1745571600-1745582400@nbhcc.org
SUMMARY:NBHCC Board Meeting
DESCRIPTION:
URL:https://nbhcc.org/event/nbhcc-board-meeting-9/
LOCATION:NBHCC OFFICE
END:VEVENT
BEGIN:VEVENT
DTSTART;TZID=UTC:20250404T103000
DTEND;TZID=UTC:20250404T120000
DTSTAMP:20260422T003300
CREATED:20250317T165432Z
LAST-MODIFIED:20250317T165432Z
UID:3380-1743762600-1743768000@nbhcc.org
SUMMARY:NBHCC Stakeholders Meeting
DESCRIPTION:
URL:https://nbhcc.org/event/nbhcc-stakeholders-meeting-2/
END:VEVENT
BEGIN:VEVENT
DTSTART;TZID=UTC:20250401T080000
DTEND;TZID=UTC:20250430T170000
DTSTAMP:20260422T003300
CREATED:20240722T175549Z
LAST-MODIFIED:20240722T175549Z
UID:3167-1743494400-1746032400@nbhcc.org
SUMMARY:Alcohol Awareness Month
DESCRIPTION:
URL:https://nbhcc.org/event/alcohol-awareness-month/
END:VEVENT
BEGIN:VEVENT
DTSTART;TZID=UTC:20250330T080000
DTEND;TZID=UTC:20250330T170000
DTSTAMP:20260422T003300
CREATED:20240722T175453Z
LAST-MODIFIED:20240722T175453Z
UID:3165-1743321600-1743354000@nbhcc.org
SUMMARY:World Bipolar Day
DESCRIPTION:
URL:https://nbhcc.org/event/world-bipolar-day/
END:VEVENT
BEGIN:VEVENT
DTSTART;TZID=UTC:20250320T090000
DTEND;TZID=UTC:20250320T120000
DTSTAMP:20260422T003300
CREATED:20241206T181726Z
LAST-MODIFIED:20241206T181739Z
UID:3345-1742461200-1742472000@nbhcc.org
SUMMARY:NBHCC Board Meeting
DESCRIPTION:
URL:https://nbhcc.org/event/nbhcc-board-meeting-8/
LOCATION:NBHCC OFFICE
END:VEVENT
BEGIN:VEVENT
DTSTART;TZID=UTC:20250220T090000
DTEND;TZID=UTC:20250220T120000
DTSTAMP:20260422T003300
CREATED:20241206T181520Z
LAST-MODIFIED:20241206T184806Z
UID:3343-1740042000-1740052800@nbhcc.org
SUMMARY:NBHCC Board Meeting
DESCRIPTION:
URL:https://nbhcc.org/event/nbhcc-board-meeting-7/
LOCATION:NBHCC OFFICE
END:VEVENT
BEGIN:VEVENT
DTSTART;TZID=UTC:20250124T090000
DTEND;TZID=UTC:20250124T120000
DTSTAMP:20260422T003300
CREATED:20241206T181404Z
LAST-MODIFIED:20250108T145840Z
UID:3341-1737709200-1737720000@nbhcc.org
SUMMARY:NBHCC Board Meeting
DESCRIPTION:
URL:https://nbhcc.org/event/nbhcc-board-meeting-6/
LOCATION:NBHCC OFFICE
END:VEVENT
BEGIN:VEVENT
DTSTART;TZID=UTC:20250101T080000
DTEND;TZID=UTC:20250131T170000
DTSTAMP:20260422T003300
CREATED:20240722T175355Z
LAST-MODIFIED:20240722T175355Z
UID:3163-1735718400-1738342800@nbhcc.org
SUMMARY:Mental Wellness Month
DESCRIPTION:
URL:https://nbhcc.org/event/mental-wellness-month/
END:VEVENT
BEGIN:VEVENT
DTSTART;TZID=UTC:20241220T130000
DTEND;TZID=UTC:20241220T143000
DTSTAMP:20260422T003300
CREATED:20241204T193944Z
LAST-MODIFIED:20241204T193944Z
UID:3338-1734699600-1734705000@nbhcc.org
SUMMARY:Stakeholders Meeting
DESCRIPTION:
URL:https://nbhcc.org/event/stakeholders-meeting/
END:VEVENT
BEGIN:VEVENT
DTSTART;TZID=UTC:20241219T090000
DTEND;TZID=UTC:20241219T120000
DTSTAMP:20260422T003300
CREATED:20240821T192024Z
LAST-MODIFIED:20241024T191236Z
UID:3259-1734598800-1734609600@nbhcc.org
SUMMARY:NBHCC Board Meeting
DESCRIPTION:
URL:https://nbhcc.org/event/nbhcc-board-meeting-3/
LOCATION:NBHCC OFFICE
END:VEVENT
BEGIN:VEVENT
DTSTART;TZID=UTC:20241213T100000
DTEND;TZID=UTC:20241213T120000
DTSTAMP:20260422T003300
CREATED:20241024T191706Z
LAST-MODIFIED:20241024T191706Z
UID:3315-1734084000-1734091200@nbhcc.org
SUMMARY:Corporate Members Meeting
DESCRIPTION:
URL:https://nbhcc.org/event/corporate-members-meeting-2/
LOCATION:NBHCC OFFICE
END:VEVENT
BEGIN:VEVENT
DTSTART;TZID=UTC:20241201T080000
DTEND;TZID=UTC:20241231T170000
DTSTAMP:20260422T003300
CREATED:20240722T180205Z
LAST-MODIFIED:20240722T180205Z
UID:3195-1733040000-1735664400@nbhcc.org
SUMMARY:Seasonal Affective Disorder Month
DESCRIPTION:
URL:https://nbhcc.org/event/seasonal-affective-disorder-month-2/
END:VEVENT
BEGIN:VEVENT
DTSTART;TZID=UTC:20241121T090000
DTEND;TZID=UTC:20241121T120000
DTSTAMP:20260422T003300
CREATED:20241025T133824Z
LAST-MODIFIED:20241025T133824Z
UID:3323-1732179600-1732190400@nbhcc.org
SUMMARY:NBHCC Board Meeting
DESCRIPTION:
URL:https://nbhcc.org/event/nbhcc-board-meeting-5/
LOCATION:NBHCC OFFICE
END:VEVENT
BEGIN:VEVENT
DTSTART;TZID=UTC:20241101T080000
DTEND;TZID=UTC:20241130T170000
DTSTAMP:20260422T003300
CREATED:20240722T180112Z
LAST-MODIFIED:20240722T180112Z
UID:3192-1730448000-1732986000@nbhcc.org
SUMMARY:National Family Caregivers Month
DESCRIPTION:
URL:https://nbhcc.org/event/national-family-caregivers-month/
END:VEVENT
BEGIN:VEVENT
DTSTART;TZID=UTC:20241025T090000
DTEND;TZID=UTC:20241025T120000
DTSTAMP:20260422T003300
CREATED:20241025T133811Z
LAST-MODIFIED:20241025T133811Z
UID:3324-1729846800-1729857600@nbhcc.org
SUMMARY:NBHCC Board Meeting
DESCRIPTION:
URL:https://nbhcc.org/event/nbhcc-board-meeting-4/
LOCATION:NBHCC OFFICE
END:VEVENT
BEGIN:VEVENT
DTSTART;TZID=UTC:20241004T090000
DTEND;TZID=UTC:20241004T120000
DTSTAMP:20260422T003300
CREATED:20240821T191944Z
LAST-MODIFIED:20241024T191245Z
UID:3257-1728032400-1728043200@nbhcc.org
SUMMARY:NBHCC Board Meeting
DESCRIPTION:
URL:https://nbhcc.org/event/nbhcc-board-meeting/
LOCATION:NBHCC OFFICE
END:VEVENT
BEGIN:VEVENT
DTSTART;TZID=UTC:20241001T080000
DTEND;TZID=UTC:20241031T170000
DTSTAMP:20260422T003300
CREATED:20240722T180026Z
LAST-MODIFIED:20240722T180026Z
UID:3185-1727769600-1730394000@nbhcc.org
SUMMARY:ADHD Awareness Month
DESCRIPTION:
URL:https://nbhcc.org/event/adhd-awareness-month/
END:VEVENT
BEGIN:VEVENT
DTSTART;TZID=UTC:20241001T080000
DTEND;TZID=UTC:20241031T170000
DTSTAMP:20260422T003300
CREATED:20240722T175952Z
LAST-MODIFIED:20240722T175952Z
UID:3184-1727769600-1730394000@nbhcc.org
SUMMARY:Depression Awareness Month
DESCRIPTION:
URL:https://nbhcc.org/event/depression-awareness-month/
END:VEVENT
BEGIN:VEVENT
DTSTART;TZID=UTC:20240919T090000
DTEND;TZID=UTC:20240919T100000
DTSTAMP:20260422T003300
CREATED:20240821T191738Z
LAST-MODIFIED:20240821T191910Z
UID:3255-1726736400-1726740000@nbhcc.org
SUMMARY:NBHCC Stakeholders Meeting
DESCRIPTION:
URL:https://nbhcc.org/event/nbhcc-stakeholders-meeting/
LOCATION:NBHCC OFFICE
END:VEVENT
BEGIN:VEVENT
DTSTART;TZID=UTC:20240901T080000
DTEND;TZID=UTC:20240930T170000
DTSTAMP:20260422T003300
CREATED:20240722T175900Z
LAST-MODIFIED:20240722T175900Z
UID:3179-1725177600-1727715600@nbhcc.org
SUMMARY:National Suicide Prevention Month
DESCRIPTION:
URL:https://nbhcc.org/event/national-suicide-prevention-month/
END:VEVENT
BEGIN:VEVENT
DTSTART;TZID=UTC:20240831T080000
DTEND;TZID=UTC:20240831T170000
DTSTAMP:20260422T003300
CREATED:20240722T175813Z
LAST-MODIFIED:20240722T175813Z
UID:3175-1725091200-1725123600@nbhcc.org
SUMMARY:International Overdose Awareness Day
DESCRIPTION:
URL:https://nbhcc.org/event/international-overdose-awareness-day/
END:VEVENT
BEGIN:VEVENT
DTSTART;TZID=UTC:20240822T130000
DTEND;TZID=UTC:20240822T140000
DTSTAMP:20260422T003300
CREATED:20240821T191655Z
LAST-MODIFIED:20240821T191655Z
UID:3251-1724331600-1724335200@nbhcc.org
SUMMARY:Corporate Members Meeting
DESCRIPTION:
URL:https://nbhcc.org/event/corporate-members-meeting/
LOCATION:NBHCC OFFICE
END:VEVENT
BEGIN:VEVENT
DTSTART;TZID=UTC:20240821T080000
DTEND;TZID=UTC:20240821T170000
DTSTAMP:20260422T003300
CREATED:20240821T192001Z
LAST-MODIFIED:20240821T192001Z
UID:3258-1724227200-1724259600@nbhcc.org
SUMMARY:NBHCC Board Meeting
DESCRIPTION:
URL:https://nbhcc.org/event/nbhcc-board-meeting-2/
LOCATION:NBHCC OFFICE
END:VEVENT
END:VCALENDAR