BEGIN:VCALENDAR
VERSION:2.0
PRODID:-//NBHCC - ECPv6.15.20//NONSGML v1.0//EN
CALSCALE:GREGORIAN
METHOD:PUBLISH
X-WR-CALNAME:NBHCC
X-ORIGINAL-URL:https://nbhcc.org
X-WR-CALDESC:Events for NBHCC
REFRESH-INTERVAL;VALUE=DURATION:PT1H
X-Robots-Tag:noindex
X-PUBLISHED-TTL:PT1H
BEGIN:VTIMEZONE
TZID:UTC
BEGIN:STANDARD
TZOFFSETFROM:+0000
TZOFFSETTO:+0000
TZNAME:UTC
DTSTART:20240101T000000
END:STANDARD
END:VTIMEZONE
BEGIN:VEVENT
DTSTART;TZID=UTC:20250901T080000
DTEND;TZID=UTC:20250930T170000
DTSTAMP:20260422T223143
CREATED:20240722T175912Z
LAST-MODIFIED:20240722T175912Z
UID:3180-1756713600-1759251600@nbhcc.org
SUMMARY:National Suicide Prevention Month
DESCRIPTION:
URL:https://nbhcc.org/event/national-suicide-prevention-month-2/
END:VEVENT
BEGIN:VEVENT
DTSTART;TZID=UTC:20250912T100000
DTEND;TZID=UTC:20250912T113000
DTSTAMP:20260422T223143
CREATED:20250610T153704Z
LAST-MODIFIED:20250610T154004Z
UID:3411-1757671200-1757676600@nbhcc.org
SUMMARY:Stakeholders Meeting
DESCRIPTION:
URL:https://nbhcc.org/event/stakeholders-meeting-3/
END:VEVENT
BEGIN:VEVENT
DTSTART;TZID=UTC:20250918T090000
DTEND;TZID=UTC:20250918T120000
DTSTAMP:20260422T223143
CREATED:20241206T184249Z
LAST-MODIFIED:20241206T184305Z
UID:3358-1758186000-1758196800@nbhcc.org
SUMMARY:NBHCC Board Meeting
DESCRIPTION:
URL:https://nbhcc.org/event/nbhcc-board-meeting-13/
LOCATION:NBHCC OFFICE
END:VEVENT
BEGIN:VEVENT
DTSTART;TZID=UTC:20251001T080000
DTEND;TZID=UTC:20251031T170000
DTSTAMP:20260422T223143
CREATED:20240722T180007Z
LAST-MODIFIED:20240722T180007Z
UID:3183-1759305600-1761930000@nbhcc.org
SUMMARY:Depression Awareness Month
DESCRIPTION:
URL:https://nbhcc.org/event/depression-awareness-month-2/
END:VEVENT
BEGIN:VEVENT
DTSTART;TZID=UTC:20251001T080000
DTEND;TZID=UTC:20251031T170000
DTSTAMP:20260422T223143
CREATED:20240722T180047Z
LAST-MODIFIED:20240722T180047Z
UID:3186-1759305600-1761930000@nbhcc.org
SUMMARY:ADHD Awareness Month
DESCRIPTION:
URL:https://nbhcc.org/event/adhd-awareness-month-2/
END:VEVENT
BEGIN:VEVENT
DTSTART;TZID=UTC:20251007T100000
DTEND;TZID=UTC:20251007T120000
DTSTAMP:20260422T223143
CREATED:20250610T153852Z
LAST-MODIFIED:20250610T153852Z
UID:3415-1759831200-1759838400@nbhcc.org
SUMMARY:Corporate Members Meeting
DESCRIPTION:
URL:https://nbhcc.org/event/corporate-members-meeting-3/
LOCATION:NBHCC OFFICE
END:VEVENT
BEGIN:VEVENT
DTSTART;TZID=UTC:20251030T090000
DTEND;TZID=UTC:20251030T120000
DTSTAMP:20260422T223143
CREATED:20241206T184955Z
LAST-MODIFIED:20250530T142041Z
UID:3364-1761814800-1761825600@nbhcc.org
SUMMARY:NBHCC Board Meeting
DESCRIPTION:
URL:https://nbhcc.org/event/nbhcc-board-meeting-16/
LOCATION:NBHCC OFFICE
END:VEVENT
BEGIN:VEVENT
DTSTART;TZID=UTC:20251101T080000
DTEND;TZID=UTC:20251130T170000
DTSTAMP:20260422T223143
CREATED:20240722T180124Z
LAST-MODIFIED:20240722T180124Z
UID:3191-1761984000-1764522000@nbhcc.org
SUMMARY:National Family Caregivers Month
DESCRIPTION:
URL:https://nbhcc.org/event/national-family-caregivers-month-2/
END:VEVENT
BEGIN:VEVENT
DTSTART;TZID=UTC:20251120T090000
DTEND;TZID=UTC:20251120T120000
DTSTAMP:20260422T223143
CREATED:20241206T184352Z
LAST-MODIFIED:20241206T184352Z
UID:3360-1763629200-1763640000@nbhcc.org
SUMMARY:NBHCC Board Meeting
DESCRIPTION:
URL:https://nbhcc.org/event/nbhcc-board-meeting-14/
LOCATION:NBHCC OFFICE
END:VEVENT
BEGIN:VEVENT
DTSTART;TZID=UTC:20251201T080000
DTEND;TZID=UTC:20251231T170000
DTSTAMP:20260422T223143
CREATED:20240722T180153Z
LAST-MODIFIED:20240722T180153Z
UID:3197-1764576000-1767200400@nbhcc.org
SUMMARY:Seasonal Affective Disorder Month
DESCRIPTION:
URL:https://nbhcc.org/event/seasonal-affective-disorder-month/
END:VEVENT
BEGIN:VEVENT
DTSTART;TZID=UTC:20251212T100000
DTEND;TZID=UTC:20251212T113000
DTSTAMP:20260422T223143
CREATED:20250610T153745Z
LAST-MODIFIED:20250610T153745Z
UID:3413-1765533600-1765539000@nbhcc.org
SUMMARY:Stakeholders Meeting
DESCRIPTION:
URL:https://nbhcc.org/event/stakeholders-meeting-4/
END:VEVENT
BEGIN:VEVENT
DTSTART;TZID=UTC:20251218T090000
DTEND;TZID=UTC:20251218T120000
DTSTAMP:20260422T223143
CREATED:20241206T184435Z
LAST-MODIFIED:20241206T184435Z
UID:3362-1766048400-1766059200@nbhcc.org
SUMMARY:NBHCC Board Meeting
DESCRIPTION:
URL:https://nbhcc.org/event/nbhcc-board-meeting-15/
LOCATION:NBHCC OFFICE
END:VEVENT
BEGIN:VEVENT
DTSTART;TZID=UTC:20260122T090000
DTEND;TZID=UTC:20260122T120000
DTSTAMP:20260422T223143
CREATED:20251215T170651Z
LAST-MODIFIED:20251215T170651Z
UID:3439-1769072400-1769083200@nbhcc.org
SUMMARY:NBHCC Board Meeting
DESCRIPTION:
URL:https://nbhcc.org/event/nbhcc-board-meeting-17/
LOCATION:NBHCC OFFICE
END:VEVENT
BEGIN:VEVENT
DTSTART;TZID=UTC:20260226T090000
DTEND;TZID=UTC:20260226T120000
DTSTAMP:20260422T223143
CREATED:20251215T170733Z
LAST-MODIFIED:20251215T171445Z
UID:3441-1772096400-1772107200@nbhcc.org
SUMMARY:NBHCC Board Meeting
DESCRIPTION:
URL:https://nbhcc.org/event/nbhcc-board-meeting-18/
LOCATION:NBHCC OFFICE
END:VEVENT
BEGIN:VEVENT
DTSTART;TZID=UTC:20260313T100000
DTEND;TZID=UTC:20260313T113000
DTSTAMP:20260422T223143
CREATED:20251119T160944Z
LAST-MODIFIED:20251119T160944Z
UID:3430-1773396000-1773401400@nbhcc.org
SUMMARY:Stakeholders Meeting
DESCRIPTION:
URL:https://nbhcc.org/event/stakeholders-meeting-5/
END:VEVENT
BEGIN:VEVENT
DTSTART;TZID=UTC:20260326T090000
DTEND;TZID=UTC:20260326T120000
DTSTAMP:20260422T223143
CREATED:20251215T170808Z
LAST-MODIFIED:20251215T171512Z
UID:3443-1774515600-1774526400@nbhcc.org
SUMMARY:NBHCC Board Meeting
DESCRIPTION:
URL:https://nbhcc.org/event/nbhcc-board-meeting-19/
LOCATION:NBHCC OFFICE
END:VEVENT
BEGIN:VEVENT
DTSTART;TZID=UTC:20260327T100000
DTEND;TZID=UTC:20260327T113000
DTSTAMP:20260422T223143
CREATED:20251217T182651Z
LAST-MODIFIED:20251217T182651Z
UID:3465-1774605600-1774611000@nbhcc.org
SUMMARY:Corporate Members Meeting
DESCRIPTION:
URL:https://nbhcc.org/event/corporate-members-meeting-4/
LOCATION:NBHCC OFFICE
END:VEVENT
BEGIN:VEVENT
DTSTART;TZID=UTC:20260423T090000
DTEND;TZID=UTC:20260423T120000
DTSTAMP:20260422T223143
CREATED:20251215T170846Z
LAST-MODIFIED:20251215T170846Z
UID:3445-1776934800-1776945600@nbhcc.org
SUMMARY:NBHCC Board Meeting
DESCRIPTION:
URL:https://nbhcc.org/event/nbhcc-board-meeting-20/
LOCATION:NBHCC OFFICE
END:VEVENT
BEGIN:VEVENT
DTSTART;TZID=UTC:20260527T090000
DTEND;TZID=UTC:20260527T120000
DTSTAMP:20260422T223143
CREATED:20251215T170928Z
LAST-MODIFIED:20260407T145408Z
UID:3447-1779872400-1779883200@nbhcc.org
SUMMARY:NBHCC Board Meeting
DESCRIPTION:
URL:https://nbhcc.org/event/nbhcc-board-meeting-21/
LOCATION:NBHCC OFFICE
END:VEVENT
BEGIN:VEVENT
DTSTART;TZID=UTC:20260612T100000
DTEND;TZID=UTC:20260612T113000
DTSTAMP:20260422T223143
CREATED:20251119T161046Z
LAST-MODIFIED:20260316T142547Z
UID:3432-1781258400-1781263800@nbhcc.org
SUMMARY:Stakeholders Meeting
DESCRIPTION:Topic:  Reinvestment Updates and Discussion \nLink to Teams meeting: \nTeams Meeting \nOr Dial in by phone \n1-312-248-4474 \nPhone Conference ID:  179565155#
URL:https://nbhcc.org/event/stakeholders-meeting-6/
END:VEVENT
BEGIN:VEVENT
DTSTART;TZID=UTC:20260625T090000
DTEND;TZID=UTC:20260625T120000
DTSTAMP:20260422T223143
CREATED:20251215T170958Z
LAST-MODIFIED:20251215T170958Z
UID:3449-1782378000-1782388800@nbhcc.org
SUMMARY:NBHCC Board Meeting
DESCRIPTION:
URL:https://nbhcc.org/event/nbhcc-board-meeting-22/
LOCATION:NBHCC OFFICE
END:VEVENT
BEGIN:VEVENT
DTSTART;TZID=UTC:20260723T090000
DTEND;TZID=UTC:20260723T120000
DTSTAMP:20260422T223143
CREATED:20251215T171041Z
LAST-MODIFIED:20251215T171041Z
UID:3451-1784797200-1784808000@nbhcc.org
SUMMARY:NBHCC Board Meeting
DESCRIPTION:
URL:https://nbhcc.org/event/nbhcc-board-meeting-23/
LOCATION:NBHCC OFFICE
END:VEVENT
BEGIN:VEVENT
DTSTART;TZID=UTC:20260827T090000
DTEND;TZID=UTC:20260827T120000
DTSTAMP:20260422T223143
CREATED:20251215T171113Z
LAST-MODIFIED:20251215T171113Z
UID:3453-1787821200-1787832000@nbhcc.org
SUMMARY:NBHCC Board Meeting
DESCRIPTION:
URL:https://nbhcc.org/event/nbhcc-board-meeting-24/
LOCATION:NBHCC OFFICE
END:VEVENT
BEGIN:VEVENT
DTSTART;TZID=UTC:20260911T100000
DTEND;TZID=UTC:20260911T113000
DTSTAMP:20260422T223143
CREATED:20251119T161119Z
LAST-MODIFIED:20251119T161119Z
UID:3434-1789120800-1789126200@nbhcc.org
SUMMARY:Stakeholders Meeting
DESCRIPTION:
URL:https://nbhcc.org/event/stakeholders-meeting-7/
END:VEVENT
BEGIN:VEVENT
DTSTART;TZID=UTC:20260924T090000
DTEND;TZID=UTC:20260924T120000
DTSTAMP:20260422T223143
CREATED:20251215T171146Z
LAST-MODIFIED:20251215T171146Z
UID:3455-1790240400-1790251200@nbhcc.org
SUMMARY:NBHCC Board Meeting
DESCRIPTION:
URL:https://nbhcc.org/event/nbhcc-board-meeting-25/
LOCATION:NBHCC OFFICE
END:VEVENT
BEGIN:VEVENT
DTSTART;TZID=UTC:20261002T120000
DTEND;TZID=UTC:20261002T133000
DTSTAMP:20260422T223143
CREATED:20260413T152731Z
LAST-MODIFIED:20260413T152731Z
UID:3495-1790942400-1790947800@nbhcc.org
SUMMARY:Corporate Members Meeting
DESCRIPTION:
URL:https://nbhcc.org/event/corporate-members-meeting-5/
LOCATION:NBHCC OFFICE
END:VEVENT
BEGIN:VEVENT
DTSTART;TZID=UTC:20261022T090000
DTEND;TZID=UTC:20261022T120000
DTSTAMP:20260422T223143
CREATED:20251215T171220Z
LAST-MODIFIED:20251215T171220Z
UID:3457-1792659600-1792670400@nbhcc.org
SUMMARY:NBHCC Board Meeting
DESCRIPTION:
URL:https://nbhcc.org/event/nbhcc-board-meeting-26/
LOCATION:NBHCC OFFICE
END:VEVENT
BEGIN:VEVENT
DTSTART;TZID=UTC:20261119T090000
DTEND;TZID=UTC:20261119T120000
DTSTAMP:20260422T223143
CREATED:20251215T171254Z
LAST-MODIFIED:20251215T171254Z
UID:3459-1795078800-1795089600@nbhcc.org
SUMMARY:NBHCC Board Meeting
DESCRIPTION:
URL:https://nbhcc.org/event/nbhcc-board-meeting-27/
LOCATION:NBHCC OFFICE
END:VEVENT
BEGIN:VEVENT
DTSTART;TZID=UTC:20261211T100000
DTEND;TZID=UTC:20261211T113000
DTSTAMP:20260422T223143
CREATED:20251119T161208Z
LAST-MODIFIED:20251119T161208Z
UID:3436-1796983200-1796988600@nbhcc.org
SUMMARY:Stakeholders Meeting
DESCRIPTION:
URL:https://nbhcc.org/event/stakeholders-meeting-8/
END:VEVENT
BEGIN:VEVENT
DTSTART;TZID=UTC:20261217T090000
DTEND;TZID=UTC:20261217T120000
DTSTAMP:20260422T223143
CREATED:20251215T171332Z
LAST-MODIFIED:20251215T171332Z
UID:3461-1797498000-1797508800@nbhcc.org
SUMMARY:NBHCC Board Meeting
DESCRIPTION:
URL:https://nbhcc.org/event/nbhcc-board-meeting-28/
LOCATION:NBHCC OFFICE
END:VEVENT
END:VCALENDAR