BEGIN:VCALENDAR
VERSION:2.0
PRODID:-//NBHCC - ECPv6.15.17.1//NONSGML v1.0//EN
CALSCALE:GREGORIAN
METHOD:PUBLISH
X-WR-CALNAME:NBHCC
X-ORIGINAL-URL:https://nbhcc.org
X-WR-CALDESC:Events for NBHCC
REFRESH-INTERVAL;VALUE=DURATION:PT1H
X-Robots-Tag:noindex
X-PUBLISHED-TTL:PT1H
BEGIN:VTIMEZONE
TZID:UTC
BEGIN:STANDARD
TZOFFSETFROM:+0000
TZOFFSETTO:+0000
TZNAME:UTC
DTSTART:20250101T000000
END:STANDARD
END:VTIMEZONE
BEGIN:VEVENT
DTSTART;TZID=UTC:20260911T100000
DTEND;TZID=UTC:20260911T113000
DTSTAMP:20260422T011028
CREATED:20251119T161119Z
LAST-MODIFIED:20251119T161119Z
UID:3434-1789120800-1789126200@nbhcc.org
SUMMARY:Stakeholders Meeting
DESCRIPTION:
URL:https://nbhcc.org/event/stakeholders-meeting-7/
END:VEVENT
END:VCALENDAR