BEGIN:VCALENDAR
VERSION:2.0
PRODID:-//NBHCC - ECPv6.15.17.1//NONSGML v1.0//EN
CALSCALE:GREGORIAN
METHOD:PUBLISH
X-WR-CALNAME:NBHCC
X-ORIGINAL-URL:https://nbhcc.org
X-WR-CALDESC:Events for NBHCC
REFRESH-INTERVAL;VALUE=DURATION:PT1H
X-Robots-Tag:noindex
X-PUBLISHED-TTL:PT1H
BEGIN:VTIMEZONE
TZID:UTC
BEGIN:STANDARD
TZOFFSETFROM:+0000
TZOFFSETTO:+0000
TZNAME:UTC
DTSTART:20250101T000000
END:STANDARD
END:VTIMEZONE
BEGIN:VEVENT
DTSTART;TZID=UTC:20260423T090000
DTEND;TZID=UTC:20260423T120000
DTSTAMP:20260421T171613
CREATED:20251215T170846Z
LAST-MODIFIED:20251215T170846Z
UID:3445-1776934800-1776945600@nbhcc.org
SUMMARY:NBHCC Board Meeting
DESCRIPTION:
URL:https://nbhcc.org/event/nbhcc-board-meeting-20/
LOCATION:NBHCC OFFICE
END:VEVENT
END:VCALENDAR